BEGIN:VCALENDAR
VERSION:2.0
PRODID:-//Jasper County Chamber of Commerce - South Carolina - ECPv6.6.4.2//NONSGML v1.0//EN
CALSCALE:GREGORIAN
METHOD:PUBLISH
X-WR-CALNAME:Jasper County Chamber of Commerce - South Carolina
X-ORIGINAL-URL:https://jaspersc.org
X-WR-CALDESC:Events for Jasper County Chamber of Commerce - South Carolina
REFRESH-INTERVAL;VALUE=DURATION:PT1H
X-Robots-Tag:noindex
X-PUBLISHED-TTL:PT1H
BEGIN:VTIMEZONE
TZID:UTC
BEGIN:STANDARD
TZOFFSETFROM:+0000
TZOFFSETTO:+0000
TZNAME:UTC
DTSTART:20220101T000000
END:STANDARD
TZID:America/New_York
BEGIN:DAYLIGHT
TZOFFSETFROM:-0500
TZOFFSETTO:-0400
TZNAME:EDT
DTSTART:20220313T070000
END:DAYLIGHT
BEGIN:STANDARD
TZOFFSETFROM:-0400
TZOFFSETTO:-0500
TZNAME:EST
DTSTART:20221106T060000
END:STANDARD
END:VTIMEZONE
BEGIN:VEVENT
DTSTART;VALUE=DATE:20221111
DTEND;VALUE=DATE:20221112
DTSTAMP:20260424T075123
CREATED:20220831T152441Z
LAST-MODIFIED:20220831T152441Z
UID:1251-1668124800-1668211199@jaspersc.org
SUMMARY:Veterans Day
DESCRIPTION:The Jasper Chamber offices will be closed in observance of Veterans Day.
URL:https://jaspersc.org/event/veterans-day-2/
LOCATION:SC
CATEGORIES:Chamber Events,Community Events
END:VEVENT
BEGIN:VEVENT
DTSTART;TZID=America/New_York:20221117T180000
DTEND;TZID=America/New_York:20221117T210000
DTSTAMP:20260424T075123
CREATED:20190829T141914Z
LAST-MODIFIED:20221102T152408Z
UID:693-1668708000-1668718800@jaspersc.org
SUMMARY:Big Thursday Jasper Chamber Oyster Roast
DESCRIPTION:Make plans now to attend the fabulous 2022 Annual Big Thursday Oyster Roast to be held on Thursday\, November 17\, 2022 from 6:00 until 9:00 pm. This year’s event will be held at the Jasper County Farmers’ Market at 9935 South Jacob Smart Blvd.\, Hwy. 17\, Ridgeland\, SC.\nThis year’s fabulous event will include several raffles\, as well as\, a chance to win an oyster cooker. If you would like to donate an item or service please contact us at the Chamber office.\nSince this is the Thursday before the “BIG” Clemson/Carolina game\, we are encouraging everyone to show their colors and support their favorite team. We will have plenty to eat and drink as we will be serving oysters\, hamburgers\, hot dogs\, beer and soft drinks. Lots of fun and music!\nWe look forward to seeing you there!
URL:https://jaspersc.org/event/big-thursday-jasper-chamber-oyster-roast/
LOCATION:Jasper County Farmers Market – Ridgeland\,SC
CATEGORIES:Chamber Events,Community Events
ATTACH;FMTTYPE=application/pdf:https://jaspersc.org/wp-content/uploads/2019/08/2022-AD.pdf
END:VEVENT
BEGIN:VEVENT
DTSTART;VALUE=DATE:20221124
DTEND;VALUE=DATE:20221126
DTSTAMP:20260424T075123
CREATED:20220831T152627Z
LAST-MODIFIED:20220831T152834Z
UID:1252-1669248000-1669420799@jaspersc.org
SUMMARY:Thanksgiving
DESCRIPTION:The Jasper Chamber offices will be closed for the Thanksgiving Holiday.
URL:https://jaspersc.org/event/thanksgiving-2/
LOCATION:SC
CATEGORIES:Chamber Events,Community Events
END:VEVENT
END:VCALENDAR