BEGIN:VCALENDAR
VERSION:2.0
PRODID:-//Jasper County Chamber of Commerce - South Carolina - ECPv6.6.4.2//NONSGML v1.0//EN
CALSCALE:GREGORIAN
METHOD:PUBLISH
X-WR-CALNAME:Jasper County Chamber of Commerce - South Carolina
X-ORIGINAL-URL:https://jaspersc.org
X-WR-CALDESC:Events for Jasper County Chamber of Commerce - South Carolina
REFRESH-INTERVAL;VALUE=DURATION:PT1H
X-Robots-Tag:noindex
X-PUBLISHED-TTL:PT1H
BEGIN:VTIMEZONE
TZID:America/New_York
BEGIN:DAYLIGHT
TZOFFSETFROM:-0500
TZOFFSETTO:-0400
TZNAME:EDT
DTSTART:20250309T070000
END:DAYLIGHT
BEGIN:STANDARD
TZOFFSETFROM:-0400
TZOFFSETTO:-0500
TZNAME:EST
DTSTART:20251102T060000
END:STANDARD
BEGIN:DAYLIGHT
TZOFFSETFROM:-0500
TZOFFSETTO:-0400
TZNAME:EDT
DTSTART:20260308T070000
END:DAYLIGHT
BEGIN:STANDARD
TZOFFSETFROM:-0400
TZOFFSETTO:-0500
TZNAME:EST
DTSTART:20261101T060000
END:STANDARD
END:VTIMEZONE
BEGIN:VEVENT
DTSTART;TZID=America/New_York:20250508T173000
DTEND;TZID=America/New_York:20250508T203000
DTSTAMP:20260422T114535
CREATED:20250207T213119Z
LAST-MODIFIED:20250207T214008Z
UID:3952-1746725400-1746736200@jaspersc.org
SUMMARY:Jasper on the Move/Annual Awards Banquet
DESCRIPTION:Join us for our annual Jasper on the Move/Awards Banquet on Thursday\, May 8th.  Invitation only event.
URL:https://jaspersc.org/event/jasper-on-the-move-annual-awards-banquet-2/
LOCATION:Legacy Oaks Preserve\, 328 Lakeview Drive\, Ridgeland\, SC\, 29936\, United States
CATEGORIES:Chamber Events
END:VEVENT
BEGIN:VEVENT
DTSTART;TZID=America/New_York:20251120T180000
DTEND;TZID=America/New_York:20251120T210000
DTSTAMP:20260422T114535
CREATED:20250924T151152Z
LAST-MODIFIED:20260304T194427Z
UID:6256-1763661600-1763672400@jaspersc.org
SUMMARY:"Big Thursday" Jasper Chamber Oyster Roast
DESCRIPTION:All you can eat oysters\, hamburgers\, hotdogs\, beer\, wine and soft drinks.  Music and silent auction.  Wear your favorite football team’s attire.
URL:https://jaspersc.org/event/big-thursday-jasper-chamber-oyster-roast-3/
LOCATION:Jasper County Farmers Market – Ridgeland\,SC
CATEGORIES:Chamber Events,Community Events
END:VEVENT
BEGIN:VEVENT
DTSTART;TZID=America/New_York:20251201T090000
DTEND;TZID=America/New_York:20251201T170000
DTSTAMP:20260422T114535
CREATED:20250924T150759Z
LAST-MODIFIED:20250924T150759Z
UID:6255-1764579600-1764608400@jaspersc.org
SUMMARY:16th Annual Justin Ihly Baker Golf Tournament
DESCRIPTION:
URL:https://jaspersc.org/event/16th-annual-justin-ihly-baker-golf-tournament/
LOCATION:Riverton Pointe Golf Club\, 2251 Riverton Pointe Blvd\, Hardeeville\, 29927\, United States
CATEGORIES:Chamber Events
END:VEVENT
BEGIN:VEVENT
DTSTART;TZID=America/New_York:20260226T160000
DTEND;TZID=America/New_York:20260226T170000
DTSTAMP:20260422T114535
CREATED:20260126T165118Z
LAST-MODIFIED:20260304T194353Z
UID:6637-1772121600-1772125200@jaspersc.org
SUMMARY:Ribbon Cutting
DESCRIPTION:Join us for a ribbon cutting to celebrate the Boys & Girls Club’s (Destiny Club) new location at Kingdom Touch Destiny Center.
URL:https://jaspersc.org/event/ribbon-cutting/
LOCATION:Kingdom Touch Destiny Center\, 6750 Tillman Road\, Ridgeland\, United States
CATEGORIES:Chamber Events,Community Events
END:VEVENT
BEGIN:VEVENT
DTSTART;TZID=America/New_York:20260306T110000
DTEND;TZID=America/New_York:20260306T130000
DTSTAMP:20260422T114535
CREATED:20260126T162055Z
LAST-MODIFIED:20260304T194339Z
UID:6631-1772794800-1772802000@jaspersc.org
SUMMARY:Celebrate Women's Day
DESCRIPTION:Celebrate women for International Women’s Day.  Enjoy a catered lunch\, fashion show\, giveaways and a special guest speaker Lakeside at Blue Heron.
URL:https://jaspersc.org/event/celebrate-womens-day-3/
LOCATION:Lakeside at Blue Heron\, 153 James L. Taylor Drive\, Ridgeland\, SC\, 29936
CATEGORIES:Chamber Events
END:VEVENT
BEGIN:VEVENT
DTSTART;TZID=America/New_York:20260311T090000
DTEND;TZID=America/New_York:20260311T103000
DTSTAMP:20260422T114535
CREATED:20260126T163319Z
LAST-MODIFIED:20260221T043738Z
UID:6632-1773219600-1773225000@jaspersc.org
SUMMARY:The State of Jasper County Breakfast
DESCRIPTION:Top elected officials of Jasper County have been invited to share their vision.
URL:https://jaspersc.org/event/the-state-of-jasper-county-breakfast-2/
LOCATION:The Last Mango Theater – Latitude Margaritaville\, 3299 Latitude Blvd.\, Hardeeville\, SC\, 29927\, United States
CATEGORIES:Chamber Events
END:VEVENT
BEGIN:VEVENT
DTSTART;TZID=America/New_York:20260314T110000
DTEND;TZID=America/New_York:20260314T140000
DTSTAMP:20260422T114535
CREATED:20260227T165216Z
LAST-MODIFIED:20260304T194410Z
UID:6733-1773486000-1773496800@jaspersc.org
SUMMARY:Ribbon Cutting & Grand Re-Opening
DESCRIPTION:Join us as we celebrate the grand re-opening for the newly renovated Pratt Memorial Library in Ridgeland
URL:https://jaspersc.org/event/ribbon-cutting-grand-re-opening/
LOCATION:Pratt Memorial Library\, Ridgeland\, SC\, 29936\, United States
CATEGORIES:Chamber Events,Community Events,Grand Openings
END:VEVENT
BEGIN:VEVENT
DTSTART;TZID=America/New_York:20260318T100000
DTEND;TZID=America/New_York:20260318T110000
DTSTAMP:20260422T114535
CREATED:20260304T193508Z
LAST-MODIFIED:20260304T194316Z
UID:7032-1773828000-1773831600@jaspersc.org
SUMMARY:Ribbon Cutting
DESCRIPTION:
URL:https://jaspersc.org/event/ribbon-cutting-3/
LOCATION:K. Hovanian Homes\, 159 Seatrout Lane\, Hardeeville\, SC\, 29927\, United States
CATEGORIES:Chamber Events,Community Events
END:VEVENT
BEGIN:VEVENT
DTSTART;TZID=America/New_York:20260409T120000
DTEND;TZID=America/New_York:20260409T130000
DTSTAMP:20260422T114535
CREATED:20260304T194245Z
LAST-MODIFIED:20260407T134956Z
UID:7034-1775736000-1775739600@jaspersc.org
SUMMARY:Ribbon Cutting
DESCRIPTION:
URL:https://jaspersc.org/event/ribbon-cutting-4/
LOCATION:YMCA\, 11010 East Argent\, Ridgeland\, SC\, 29936\, United States
CATEGORIES:Chamber Events,Community Events
END:VEVENT
BEGIN:VEVENT
DTSTART;TZID=America/New_York:20260422T110000
DTEND;TZID=America/New_York:20260422T120000
DTSTAMP:20260422T114535
CREATED:20260407T135159Z
LAST-MODIFIED:20260407T171412Z
UID:7786-1776855600-1776859200@jaspersc.org
SUMMARY:Groundbreaking Ceremony
DESCRIPTION:
URL:https://jaspersc.org/event/groundbreaking-ceremony/
LOCATION:The Bower\, 1745 Brickyard Road\, Hardeeville\, 29927\, United States
CATEGORIES:Chamber Events,Community Events
END:VEVENT
BEGIN:VEVENT
DTSTART;TZID=America/New_York:20260424T130000
DTEND;TZID=America/New_York:20260424T140000
DTSTAMP:20260422T114535
CREATED:20260407T135320Z
LAST-MODIFIED:20260407T135320Z
UID:7788-1777035600-1777039200@jaspersc.org
SUMMARY:Ribbon Cutting
DESCRIPTION:
URL:https://jaspersc.org/event/ribbon-cutting-5/
LOCATION:Harvest Home & Pantry\, 8120 East Main Street\, Ridgeland\, SC\, 29936\, United States
CATEGORIES:Chamber Events,Community Events
END:VEVENT
BEGIN:VEVENT
DTSTART;TZID=America/New_York:20260430T173000
DTEND;TZID=America/New_York:20260430T203000
DTSTAMP:20260422T114535
CREATED:20260126T164537Z
LAST-MODIFIED:20260221T052436Z
UID:6636-1777570200-1777581000@jaspersc.org
SUMMARY:Jasper on the Move/Annual Awards Banquet
DESCRIPTION:Join us for our annual Jasper on the Move/Awards Banquet on Thursday\, April 30th. Invitation only event.
URL:https://jaspersc.org/event/jasper-on-the-move-annual-awards-banquet-3/
LOCATION:Legacy Oaks Preserve\, 328 Lakeview Drive\, Ridgeland\, SC\, 29936\, United States
CATEGORIES:Chamber Events
END:VEVENT
BEGIN:VEVENT
DTSTART;TZID=America/New_York:20260501T080000
DTEND;TZID=America/New_York:20260501T170000
DTSTAMP:20260422T114535
CREATED:20260407T135427Z
LAST-MODIFIED:20260407T135427Z
UID:7790-1777622400-1777654800@jaspersc.org
SUMMARY:Ribbon Cutting
DESCRIPTION:
URL:https://jaspersc.org/event/ribbon-cutting-6/
LOCATION:Double LL Florist\, Ridgeland\, SC\, 29936\, United States
CATEGORIES:Chamber Events,Community Events
END:VEVENT
BEGIN:VEVENT
DTSTART;TZID=America/New_York:20260507T080000
DTEND;TZID=America/New_York:20260507T170000
DTSTAMP:20260422T114535
CREATED:20260407T135532Z
LAST-MODIFIED:20260407T135532Z
UID:7792-1778140800-1778173200@jaspersc.org
SUMMARY:Groundbreaking Ceremony
DESCRIPTION:
URL:https://jaspersc.org/event/groundbreaking-ceremony-2/
LOCATION:Cypress Landing\, Hardeeville\, SC\, 29927\, United States
CATEGORIES:Chamber Events,Community Events
END:VEVENT
BEGIN:VEVENT
DTSTART;TZID=America/New_York:20260513T080000
DTEND;TZID=America/New_York:20260513T170000
DTSTAMP:20260422T114535
CREATED:20260407T140259Z
LAST-MODIFIED:20260407T140259Z
UID:7794-1778659200-1778691600@jaspersc.org
SUMMARY:Grand Opening Ceremony
DESCRIPTION:
URL:https://jaspersc.org/event/grand-opening-ceremony/
LOCATION:TS Conductor\, 216 Industrial Court\, Hardeeville\, SC\, 29927\, United States
CATEGORIES:Chamber Events,Community Events,Grand Openings
END:VEVENT
BEGIN:VEVENT
DTSTART;TZID=America/New_York:20260519T080000
DTEND;TZID=America/New_York:20260519T170000
DTSTAMP:20260422T114535
CREATED:20260407T140400Z
LAST-MODIFIED:20260407T140400Z
UID:7796-1779177600-1779210000@jaspersc.org
SUMMARY:Grand Opening & Ribbon Cutting Ceremony
DESCRIPTION:
URL:https://jaspersc.org/event/grand-opening-ribbon-cutting-ceremony/
LOCATION:Jasper Therapy Group\, Ridgeland\, SC\, 29936\, United States
CATEGORIES:Chamber Events,Community Events,Grand Openings
END:VEVENT
END:VCALENDAR