BEGIN:VCALENDAR
VERSION:2.0
PRODID:-//Jasper County Chamber of Commerce - South Carolina - ECPv6.6.4.2//NONSGML v1.0//EN
CALSCALE:GREGORIAN
METHOD:PUBLISH
X-ORIGINAL-URL:https://jaspersc.org
X-WR-CALDESC:Events for Jasper County Chamber of Commerce - South Carolina
REFRESH-INTERVAL;VALUE=DURATION:PT1H
X-Robots-Tag:noindex
X-PUBLISHED-TTL:PT1H
BEGIN:VTIMEZONE
TZID:America/New_York
BEGIN:DAYLIGHT
TZOFFSETFROM:-0500
TZOFFSETTO:-0400
TZNAME:EDT
DTSTART:20240310T070000
END:DAYLIGHT
BEGIN:STANDARD
TZOFFSETFROM:-0400
TZOFFSETTO:-0500
TZNAME:EST
DTSTART:20241103T060000
END:STANDARD
END:VTIMEZONE
BEGIN:VEVENT
DTSTART;TZID=America/New_York:20240306T083000
DTEND;TZID=America/New_York:20240306T103000
DTSTAMP:20260424T122202
CREATED:20240228T154458Z
LAST-MODIFIED:20240228T154458Z
UID:2430-1709713800-1709721000@jaspersc.org
SUMMARY:State of Jasper County Breakfast
DESCRIPTION:Top elected officials of Jasper County have been invited to share their vision.
URL:https://jaspersc.org/event/state-of-jasper-county-breakfast-2/
LOCATION:Lakeside at Blue Heron\, 153 James L. Taylor Drive\, Ridgeland\, SC\, 29936
CATEGORIES:Chamber Events
END:VEVENT
BEGIN:VEVENT
DTSTART;TZID=America/New_York:20240308T110000
DTEND;TZID=America/New_York:20240308T130000
DTSTAMP:20260424T122202
CREATED:20240228T154832Z
LAST-MODIFIED:20240228T154832Z
UID:2431-1709895600-1709902800@jaspersc.org
SUMMARY:Celebrate Women's Day
DESCRIPTION:Celebrate Women on International Women’s Day. Enjoy a catered lunch\, fashion show\, giveaways\, door prizes and special guest speaker Mrs. Ashley Rhodes.
URL:https://jaspersc.org/event/celebrate-womens-day/
LOCATION:Lakeside at Blue Heron\, 153 James L. Taylor Drive\, Ridgeland\, SC\, 29936
CATEGORIES:Chamber Events
END:VEVENT
BEGIN:VEVENT
DTSTART;TZID=America/New_York:20240321T100000
DTEND;TZID=America/New_York:20240321T103000
DTSTAMP:20260424T122202
CREATED:20240228T155149Z
LAST-MODIFIED:20240228T155149Z
UID:2432-1711015200-1711017000@jaspersc.org
SUMMARY:Ribbon Cutting - Lowcountry Skincare & Spa
DESCRIPTION:10911 N. Jacob Smart Blvd\, Unit 4. Celebrate this new business at their ribbon cutting ceremony.
URL:https://jaspersc.org/event/ribbon-cutting-lowcountry-skincare-spa/
LOCATION:Ridgeland\, SC
CATEGORIES:Chamber Events
END:VEVENT
BEGIN:VEVENT
DTSTART;TZID=America/New_York:20240327T113000
DTEND;TZID=America/New_York:20240327T140000
DTSTAMP:20260424T122202
CREATED:20240228T155411Z
LAST-MODIFIED:20240228T155411Z
UID:2433-1711539000-1711548000@jaspersc.org
SUMMARY:Jasper County State House Day
DESCRIPTION:Join us on the Statehouse grounds in Columbia\, SC as we showcase Jasper County while enjoying a lowcountry boil for lunch.
URL:https://jaspersc.org/event/jasper-county-state-house-day/
LOCATION:Columbia\, SC
CATEGORIES:Chamber Events
END:VEVENT
END:VCALENDAR